BEGIN:VCALENDAR
VERSION:2.0
PRODID:-//Xcel Energy Colorado Power Pathway - ECPv6.15.20//NONSGML v1.0//EN
CALSCALE:GREGORIAN
METHOD:PUBLISH
X-ORIGINAL-URL:https://www.coloradospowerpathway.com
X-WR-CALDESC:Events for Xcel Energy Colorado Power Pathway
REFRESH-INTERVAL;VALUE=DURATION:PT1H
X-Robots-Tag:noindex
X-PUBLISHED-TTL:PT1H
BEGIN:VTIMEZONE
TZID:America/Denver
BEGIN:DAYLIGHT
TZOFFSETFROM:-0700
TZOFFSETTO:-0600
TZNAME:MDT
DTSTART:20210314T090000
END:DAYLIGHT
BEGIN:STANDARD
TZOFFSETFROM:-0600
TZOFFSETTO:-0700
TZNAME:MST
DTSTART:20211107T080000
END:STANDARD
BEGIN:DAYLIGHT
TZOFFSETFROM:-0700
TZOFFSETTO:-0600
TZNAME:MDT
DTSTART:20220313T090000
END:DAYLIGHT
BEGIN:STANDARD
TZOFFSETFROM:-0600
TZOFFSETTO:-0700
TZNAME:MST
DTSTART:20221106T080000
END:STANDARD
BEGIN:DAYLIGHT
TZOFFSETFROM:-0700
TZOFFSETTO:-0600
TZNAME:MDT
DTSTART:20230312T090000
END:DAYLIGHT
BEGIN:STANDARD
TZOFFSETFROM:-0600
TZOFFSETTO:-0700
TZNAME:MST
DTSTART:20231105T080000
END:STANDARD
END:VTIMEZONE
BEGIN:VEVENT
DTSTART;TZID=America/Denver:20220803T150000
DTEND;TZID=America/Denver:20220803T190000
DTSTAMP:20260421T135639
CREATED:20220707T164054Z
LAST-MODIFIED:20220707T164054Z
UID:1546-1659538800-1659553200@www.coloradospowerpathway.com
SUMMARY:Limon Community Building Public Open House
DESCRIPTION:Xcel Energy continues to make progress identifying the preferred transmission line route for Segment 5 (Tundra – Harvest Mile) of Colorado’s Power Pathway. We have received a large amount of feedback from landowners and other stakeholders on Segment 5 route options which we continue to evaluate. Based on this feedback\, we are now evaluating potential additional route options in eastern Elbert County and western Lincoln County. A preferred route has not been finalized\, nor have we stopped considering existing Segment 5 route options in Pueblo\, El Paso\, Elbert and Arapahoe counties.  \nPlease join us at one of our upcoming in-person public open houses to learn about our routing and siting process and provide feedback about the proposed transmission line route and substation site options. Project staff will be available to provide information about transmission line routing activities and answer questions about the project\, including the overall timeline\, route options\, construction processes and topics related to easements and right-of-way. We want to hear from you about this important project and any factors we should consider in your area or across your property. \nNo formal presentation is planned\, so please attend at any time during the open house. If you are unable to attend\, meeting materials and an electronic comment form will be available on the Project website. \nTo request translation services\, please call 855-858-9037 or send us an email at least one week in advance of the meeting.
URL:https://www.coloradospowerpathway.com/event/limon-community-building-public-open-house/
LOCATION:Limon Community Building\, 477 D Ave\, Limon\, CO\, 80828
END:VEVENT
BEGIN:VEVENT
DTSTART;TZID=America/Denver:20220804T150000
DTEND;TZID=America/Denver:20220804T190000
DTSTAMP:20260421T135639
CREATED:20220707T164044Z
LAST-MODIFIED:20220707T164044Z
UID:1550-1659625200-1659639600@www.coloradospowerpathway.com
SUMMARY:Karval Community Building Public Open House
DESCRIPTION:Xcel Energy continues to make progress identifying the preferred transmission line route for Segment 5 (Tundra – Harvest Mile) of Colorado’s Power Pathway. We have received a large amount of feedback from landowners and other stakeholders on Segment 5 route options which we continue to evaluate. Based on this feedback\, we are now evaluating potential additional route options in eastern Elbert County and western Lincoln County. A preferred route has not been finalized\, nor have we stopped considering existing Segment 5 route options in Pueblo\, El Paso\, Elbert and Arapahoe counties.  \nPlease join us at one of our upcoming in-person public open houses to learn about our routing and siting process and provide feedback about the proposed transmission line route and substation site options. Project staff will be available to provide information about transmission line routing activities and answer questions about the project\, including the overall timeline\, route options\, construction processes and topics related to easements and right-of-way. We want to hear from you about this important project and any factors we should consider in your area or across your property. \nNo formal presentation is planned\, so please attend at any time during the open house. If you are unable to attend\, meeting materials and an electronic comment form will be available on the Project website. \nTo request translation services\, please call 855-858-9037 or send us an email at least one week in advance of the meeting.
URL:https://www.coloradospowerpathway.com/event/karval-community-building-public-open-house/
LOCATION:Karval Community Building\, 29085 County Rd S\, Karval\, CO\, 80823
END:VEVENT
BEGIN:VEVENT
DTSTART;TZID=America/Denver:20220809T160000
DTEND;TZID=America/Denver:20220809T180000
DTSTAMP:20260421T135639
CREATED:20220718T173334Z
LAST-MODIFIED:20220718T173600Z
UID:1589-1660060800-1660068000@www.coloradospowerpathway.com
SUMMARY:Kiowa County Community Meeting
DESCRIPTION:Xcel Energy has submitted a Preliminary 1041 Application to Kiowa County for a permit to locate and construct Colorado’s Power Pathway facilities in the county pursuant to the Kiowa County §1041 Regulations. The Preliminary 1041 Application may be reviewed at the Kiowa County Courthouse located at 1305 Goff St.\, Eads\, CO 81036\, between August 1 and August 9. Pathway facilities proposed in Kiowa County include approximately 86 miles of new 345-kilovolt double-circuit electric transmission line and the new May Valley Substation. Pathway facilities will be constructed in segments\, with approximately 22 miles of Segment 3 and 64 miles of Segment 4 proposed within Kiowa County. \nYou are invited to attend this Community Meeting to learn about Colorado’s Power Pathway facilities proposed in Kiowa County. Project staff will be available to provide information about the Kiowa County 1041 permit application process and answer questions. Please attend to learn about this important project and provide information about any topics we should consider as part of the 1041 permit application process. \nNo formal presentation is planned\, so please attend at any time during the meeting. If you are unable to attend the Community Meeting\, meeting materials will be posted in our library. \nTo request translation services\, please call 855-858-9037 or send us an email at least one week in advance of the meeting.
URL:https://www.coloradospowerpathway.com/event/kiowa-county-community-meeting/
LOCATION:Kiowa County Courthouse\, 1305 Goff St.\, Eads\, CO\, 81036
END:VEVENT
END:VCALENDAR